BEGIN:VCALENDAR
VERSION:2.0
PRODID:-//BloodBridge - ECPv6.9.0//NONSGML v1.0//EN
CALSCALE:GREGORIAN
METHOD:PUBLISH
X-ORIGINAL-URL:https://blood.webcorecreatives.com
X-WR-CALDESC:Events for BloodBridge
REFRESH-INTERVAL;VALUE=DURATION:PT1H
X-Robots-Tag:noindex
X-PUBLISHED-TTL:PT1H
BEGIN:VTIMEZONE
TZID:UTC
BEGIN:STANDARD
TZOFFSETFROM:+0000
TZOFFSETTO:+0000
TZNAME:UTC
DTSTART:20240101T000000
END:STANDARD
END:VTIMEZONE
BEGIN:VEVENT
DTSTART;TZID=UTC:20241203T090000
DTEND;TZID=UTC:20241203T110000
DTSTAMP:20260420T135144
CREATED:20241030T011506Z
LAST-MODIFIED:20241030T044325Z
UID:693-1733216400-1733223600@blood.webcorecreatives.com
SUMMARY:Mission Blood: Annual Drive
DESCRIPTION:Our annual blood donation event. Join us in saving lives this holiday season.
URL:https://blood.webcorecreatives.com/event/mission-blood-annual-drive/
LOCATION:Community Center\, 23 Health St.\, Thiruvananthapuram\, KL\, 695001
END:VEVENT
END:VCALENDAR