BEGIN:VCALENDAR
VERSION:2.0
PRODID:-//BloodBridge - ECPv6.9.0//NONSGML v1.0//EN
CALSCALE:GREGORIAN
METHOD:PUBLISH
X-WR-CALNAME:BloodBridge
X-ORIGINAL-URL:https://blood.webcorecreatives.com
X-WR-CALDESC:Events for BloodBridge
REFRESH-INTERVAL;VALUE=DURATION:PT1H
X-Robots-Tag:noindex
X-PUBLISHED-TTL:PT1H
BEGIN:VTIMEZONE
TZID:UTC
BEGIN:STANDARD
TZOFFSETFROM:+0000
TZOFFSETTO:+0000
TZNAME:UTC
DTSTART:20240101T000000
END:STANDARD
END:VTIMEZONE
BEGIN:VEVENT
DTSTART;TZID=UTC:20241128T110000
DTEND;TZID=UTC:20241128T130000
DTSTAMP:20260420T151755
CREATED:20241030T011914Z
LAST-MODIFIED:20241030T044341Z
UID:709-1732791600-1732798800@blood.webcorecreatives.com
SUMMARY:Save More Lives
DESCRIPTION:Every unit of blood donated has the potential to save lives. Join us for this life-saving camp.
URL:https://blood.webcorecreatives.com/event/save-more-lives/
LOCATION:Civic Center\, 33 Rescue Rd.\, Pune\, MH\, 411001
END:VEVENT
END:VCALENDAR