BEGIN:VCALENDAR
VERSION:2.0
PRODID:-//BloodBridge - ECPv6.9.0//NONSGML v1.0//EN
CALSCALE:GREGORIAN
METHOD:PUBLISH
X-ORIGINAL-URL:https://blood.webcorecreatives.com
X-WR-CALDESC:Events for BloodBridge
REFRESH-INTERVAL;VALUE=DURATION:PT1H
X-Robots-Tag:noindex
X-PUBLISHED-TTL:PT1H
BEGIN:VTIMEZONE
TZID:UTC
BEGIN:STANDARD
TZOFFSETFROM:+0000
TZOFFSETTO:+0000
TZNAME:UTC
DTSTART:20240101T000000
END:STANDARD
END:VTIMEZONE
BEGIN:VEVENT
DTSTART;TZID=UTC:20241113T130000
DTEND;TZID=UTC:20241113T190000
DTSTAMP:20260420T152223
CREATED:20241030T012232Z
LAST-MODIFIED:20241030T044551Z
UID:721-1731502800-1731524400@blood.webcorecreatives.com
SUMMARY:Blood & Beyond
DESCRIPTION:Beyond saving lives\, your donation helps promote health in the community.
URL:https://blood.webcorecreatives.com/event/blood-beyond/
LOCATION:Open Grounds\, 77 Care St.\, Bengaluru\, KA\, 560001
END:VEVENT
END:VCALENDAR