BEGIN:VCALENDAR
VERSION:2.0
PRODID:-//BloodBridge - ECPv6.9.0//NONSGML v1.0//EN
CALSCALE:GREGORIAN
METHOD:PUBLISH
X-ORIGINAL-URL:https://blood.webcorecreatives.com
X-WR-CALDESC:Events for BloodBridge
REFRESH-INTERVAL;VALUE=DURATION:PT1H
X-Robots-Tag:noindex
X-PUBLISHED-TTL:PT1H
BEGIN:VTIMEZONE
TZID:UTC
BEGIN:STANDARD
TZOFFSETFROM:+0000
TZOFFSETTO:+0000
TZNAME:UTC
DTSTART:20240101T000000
END:STANDARD
END:VTIMEZONE
BEGIN:VEVENT
DTSTART;TZID=UTC:20241009T100000
DTEND;TZID=UTC:20241107T130000
DTSTAMP:20260421T023511
CREATED:20241030T010852Z
LAST-MODIFIED:20241030T010918Z
UID:664-1728468000-1730984400@blood.webcorecreatives.com
SUMMARY:Gift of Life Blood Drive
DESCRIPTION:Join us at our annual blood donation camp and contribute to saving lives.
URL:https://blood.webcorecreatives.com/event/gift-of-life-blood-drive/
LOCATION:YMCA Hall\, 100 Charity Dr.\, Pune\, MH\, 411001
END:VEVENT
END:VCALENDAR